BEGIN:VCALENDAR
VERSION:2.0
PRODID:-//Columbia Gateway - ECPv6.6.4.2//NONSGML v1.0//EN
CALSCALE:GREGORIAN
METHOD:PUBLISH
X-ORIGINAL-URL:https://columbiagateway.copt.com
X-WR-CALDESC:Events for Columbia Gateway
REFRESH-INTERVAL;VALUE=DURATION:PT1H
X-Robots-Tag:noindex
X-PUBLISHED-TTL:PT1H
BEGIN:VTIMEZONE
TZID:America/Chicago
BEGIN:DAYLIGHT
TZOFFSETFROM:-0600
TZOFFSETTO:-0500
TZNAME:CDT
DTSTART:20250309T080000
END:DAYLIGHT
BEGIN:STANDARD
TZOFFSETFROM:-0500
TZOFFSETTO:-0600
TZNAME:CST
DTSTART:20251102T070000
END:STANDARD
END:VTIMEZONE
BEGIN:VEVENT
DTSTART;TZID=America/Chicago:20250909T110000
DTEND;TZID=America/Chicago:20250909T140000
DTSTAMP:20260423T101819
CREATED:20251008T144615Z
LAST-MODIFIED:20251008T144615Z
UID:1112-1757415600-1757426400@columbiagateway.copt.com
SUMMARY:Food Truck
DESCRIPTION:Mark your calendars and check out Greek on the Street!
URL:https://columbiagateway.copt.com/whats-happening/food-truck-148/
LOCATION:Columbia Gateway\, 7125 Columbia Gateway Drive\, Columbia\, MD\, 21046\, United States
ATTACH;FMTTYPE=image/jpeg:https://columbiagateway.copt.com/wp-content/uploads/2025/10/Greek_FoodTruck_2-scaled.jpg
END:VEVENT
BEGIN:VEVENT
DTSTART;TZID=America/Chicago:20250910T110000
DTEND;TZID=America/Chicago:20250910T140000
DTSTAMP:20260423T101819
CREATED:20251008T144824Z
LAST-MODIFIED:20251008T144824Z
UID:1117-1757502000-1757512800@columbiagateway.copt.com
SUMMARY:Food Truck
DESCRIPTION:Mark your calendars and check out Cousins Maine Lobster!
URL:https://columbiagateway.copt.com/whats-happening/food-truck-149/
LOCATION:The Bell\, 6716 Alexander Bell Drive\, Columbia\, MD\, 21046\, United States
ATTACH;FMTTYPE=image/jpeg:https://columbiagateway.copt.com/wp-content/uploads/2024/10/cousins-truck-1670534425.jpg
END:VEVENT
BEGIN:VEVENT
DTSTART;TZID=America/Chicago:20250911T110000
DTEND;TZID=America/Chicago:20250911T140000
DTSTAMP:20260423T101819
CREATED:20251008T145203Z
LAST-MODIFIED:20251008T145652Z
UID:1122-1757588400-1757599200@columbiagateway.copt.com
SUMMARY:Food Truck
DESCRIPTION:Mark your calendars and check out Namit Filipino Barbecue!
URL:https://columbiagateway.copt.com/whats-happening/food-truck-150/
LOCATION:Franklin\, 6841 Benjamin Franklin Drive\, Columbia\, MD\, 21046\, United States
ATTACH;FMTTYPE=image/jpeg:https://columbiagateway.copt.com/wp-content/uploads/2025/10/NamitBBQ_FoodTruck_3-scaled-e1759935107213.jpg
END:VEVENT
BEGIN:VEVENT
DTSTART;TZID=America/Chicago:20250916T110000
DTEND;TZID=America/Chicago:20250916T140000
DTSTAMP:20260423T101819
CREATED:20251008T145323Z
LAST-MODIFIED:20251008T145623Z
UID:1126-1758020400-1758031200@columbiagateway.copt.com
SUMMARY:Food Truck
DESCRIPTION:Mark your calendars and check out Jeno’s Steaks!
URL:https://columbiagateway.copt.com/whats-happening/food-truck-151/
LOCATION:Columbia Gateway\, 7125 Columbia Gateway Drive\, Columbia\, MD\, 21046\, United States
ATTACH;FMTTYPE=image/webp:https://columbiagateway.copt.com/wp-content/uploads/2024/03/665d9c_94f83e8a600640ebbf81241116b5b848mv2-1-e1741039370872.webp
END:VEVENT
BEGIN:VEVENT
DTSTART;TZID=America/Chicago:20250916T120000
DTEND;TZID=America/Chicago:20250916T140000
DTSTAMP:20260423T101819
CREATED:20251008T145450Z
LAST-MODIFIED:20251008T145450Z
UID:1127-1758024000-1758031200@columbiagateway.copt.com
SUMMARY:Ice Cream Social
DESCRIPTION:Join us for a  complimentary end of summer treat from Mike’s Gelato!
URL:https://columbiagateway.copt.com/whats-happening/ice-cream-social-4/
LOCATION:The Bell\, 6716 Alexander Bell Drive\, Columbia\, MD\, 21046\, United States
ATTACH;FMTTYPE=image/jpeg:https://columbiagateway.copt.com/wp-content/uploads/2025/06/img-2165_51_2152521-170606444128379.jpeg
END:VEVENT
BEGIN:VEVENT
DTSTART;TZID=America/Chicago:20250917T110000
DTEND;TZID=America/Chicago:20250917T140000
DTSTAMP:20260423T101819
CREATED:20251008T145957Z
LAST-MODIFIED:20251008T145957Z
UID:1128-1758106800-1758117600@columbiagateway.copt.com
SUMMARY:Food Truck
DESCRIPTION:Mark your calendars and check out Greek on the Street!
URL:https://columbiagateway.copt.com/whats-happening/food-truck-152/
LOCATION:The Bell\, 6716 Alexander Bell Drive\, Columbia\, MD\, 21046\, United States
ATTACH;FMTTYPE=image/jpeg:https://columbiagateway.copt.com/wp-content/uploads/2025/10/Greek_FoodTruck_2-scaled.jpg
END:VEVENT
BEGIN:VEVENT
DTSTART;TZID=America/Chicago:20250923T110000
DTEND;TZID=America/Chicago:20250923T140000
DTSTAMP:20260423T101819
CREATED:20251008T150133Z
LAST-MODIFIED:20251008T150133Z
UID:1129-1758625200-1758636000@columbiagateway.copt.com
SUMMARY:Food Truck
DESCRIPTION:Mark your calendars and check out Tasty Empanadas!
URL:https://columbiagateway.copt.com/whats-happening/food-truck-153/
LOCATION:Columbia Gateway\, 7125 Columbia Gateway Drive\, Columbia\, MD\, 21046\, United States
ATTACH;FMTTYPE=image/webp:https://columbiagateway.copt.com/wp-content/uploads/2024/09/fe548c_01b59a30e8bc4f68aaa60820d1bda32fmv2.webp
END:VEVENT
BEGIN:VEVENT
DTSTART;TZID=America/Chicago:20250924T110000
DTEND;TZID=America/Chicago:20250924T140000
DTSTAMP:20260423T101819
CREATED:20251008T150236Z
LAST-MODIFIED:20251008T150236Z
UID:1130-1758711600-1758722400@columbiagateway.copt.com
SUMMARY:Food Truck
DESCRIPTION:Mark your calendars and check out Namit Filipino Barbecue!
URL:https://columbiagateway.copt.com/whats-happening/food-truck-154/
LOCATION:The Bell\, 6716 Alexander Bell Drive\, Columbia\, MD\, 21046\, United States
ATTACH;FMTTYPE=image/jpeg:https://columbiagateway.copt.com/wp-content/uploads/2025/10/NamitBBQ_FoodTruck_5-scaled.jpg
END:VEVENT
BEGIN:VEVENT
DTSTART;TZID=America/Chicago:20250930T110000
DTEND;TZID=America/Chicago:20250930T140000
DTSTAMP:20260423T101819
CREATED:20251008T150400Z
LAST-MODIFIED:20251008T150400Z
UID:1131-1759230000-1759240800@columbiagateway.copt.com
SUMMARY:Food Truck
DESCRIPTION:Mark your calendars and check out Breaking the Borders!
URL:https://columbiagateway.copt.com/whats-happening/food-truck-155/
LOCATION:Columbia Gateway\, 7125 Columbia Gateway Drive\, Columbia\, MD\, 21046\, United States
ATTACH;FMTTYPE=image/jpeg:https://columbiagateway.copt.com/wp-content/uploads/2025/04/Breaking-the-border.jpeg
END:VEVENT
END:VCALENDAR