BEGIN:VCALENDAR
VERSION:2.0
PRODID:-//Columbia Gateway - ECPv6.6.4.2//NONSGML v1.0//EN
CALSCALE:GREGORIAN
METHOD:PUBLISH
X-WR-CALNAME:Columbia Gateway
X-ORIGINAL-URL:https://columbiagateway.copt.com
X-WR-CALDESC:Events for Columbia Gateway
REFRESH-INTERVAL;VALUE=DURATION:PT1H
X-Robots-Tag:noindex
X-PUBLISHED-TTL:PT1H
BEGIN:VTIMEZONE
TZID:America/Chicago
BEGIN:DAYLIGHT
TZOFFSETFROM:-0600
TZOFFSETTO:-0500
TZNAME:CDT
DTSTART:20250309T080000
END:DAYLIGHT
BEGIN:STANDARD
TZOFFSETFROM:-0500
TZOFFSETTO:-0600
TZNAME:CST
DTSTART:20251102T070000
END:STANDARD
END:VTIMEZONE
BEGIN:VEVENT
DTSTART;TZID=America/Chicago:20250708T110000
DTEND;TZID=America/Chicago:20250708T140000
DTSTAMP:20260423T064712
CREATED:20250707T135903Z
LAST-MODIFIED:20250707T135903Z
UID:899-1751972400-1751983200@columbiagateway.copt.com
SUMMARY:Food Truck
DESCRIPTION:Mark your calendars and check out Jeno’s Steaks and Tasty Empanadas!
URL:https://columbiagateway.copt.com/whats-happening/food-truck-131/
LOCATION:7125 Columbia Gateway Drive\, MD\, 21046
ATTACH;FMTTYPE=image/webp:https://columbiagateway.copt.com/wp-content/uploads/2024/03/665d9c_94f83e8a600640ebbf81241116b5b848mv2-1-e1741039370872.webp
END:VEVENT
BEGIN:VEVENT
DTSTART;TZID=America/Chicago:20250709T110000
DTEND;TZID=America/Chicago:20250709T140000
DTSTAMP:20260423T064712
CREATED:20250707T140025Z
LAST-MODIFIED:20250707T140025Z
UID:900-1752058800-1752069600@columbiagateway.copt.com
SUMMARY:Food Truck
DESCRIPTION:Mark your calendars and check out Greek on the Street!
URL:https://columbiagateway.copt.com/whats-happening/food-truck-132/
LOCATION:The Bell\, 6716 Alexander Bell Drive\, Columbia\, MD\, 21046\, United States
ATTACH;FMTTYPE=image/png:https://columbiagateway.copt.com/wp-content/uploads/2024/02/Screenshot-2024-02-02-150601-e1739287741221.png
END:VEVENT
BEGIN:VEVENT
DTSTART;TZID=America/Chicago:20250710T110000
DTEND;TZID=America/Chicago:20250710T140000
DTSTAMP:20260423T064712
CREATED:20250707T140202Z
LAST-MODIFIED:20250707T140202Z
UID:901-1752145200-1752156000@columbiagateway.copt.com
SUMMARY:Food Truck
DESCRIPTION:Mark your calendars and check out Breaking the Borders and Mike’s Gelato!
URL:https://columbiagateway.copt.com/whats-happening/food-truck-133/
LOCATION:Franklin\, 6841 Benjamin Franklin Drive\, Columbia\, MD\, 21046\, United States
ATTACH;FMTTYPE=image/jpeg:https://columbiagateway.copt.com/wp-content/uploads/2025/06/img-2165_51_2152521-170606444128379.jpeg
END:VEVENT
BEGIN:VEVENT
DTSTART;TZID=America/Chicago:20250715T110000
DTEND;TZID=America/Chicago:20250715T140000
DTSTAMP:20260423T064712
CREATED:20250714T135223Z
LAST-MODIFIED:20250714T135716Z
UID:902-1752577200-1752588000@columbiagateway.copt.com
SUMMARY:Food Truck
DESCRIPTION:Mark your calendars and check out HH BBQ Grill!
URL:https://columbiagateway.copt.com/whats-happening/food-truck-134/
LOCATION:Columbia Gateway\, 7067 Columbia Gateway Drive\, Columbia\, MD\, 21046\, United States
ATTACH;FMTTYPE=image/jpeg:https://columbiagateway.copt.com/wp-content/uploads/2025/06/491830692_1258706086254567_7597035423192874552_n.jpg
END:VEVENT
BEGIN:VEVENT
DTSTART;TZID=America/Chicago:20250716T110000
DTEND;TZID=America/Chicago:20250716T140000
DTSTAMP:20260423T064712
CREATED:20250714T135520Z
LAST-MODIFIED:20250714T135520Z
UID:903-1752663600-1752674400@columbiagateway.copt.com
SUMMARY:Food Truck
DESCRIPTION:Mark your calendars and check out Namit Filipino BBQ!
URL:https://columbiagateway.copt.com/whats-happening/food-truck-135/
LOCATION:The Bell\, 6716 Alexander Bell Drive\, Columbia\, MD\, 21046\, United States
ATTACH;FMTTYPE=image/jpeg:https://columbiagateway.copt.com/wp-content/uploads/2024/02/Namit-e1741039616447.jpg
END:VEVENT
BEGIN:VEVENT
DTSTART;TZID=America/Chicago:20250717T110000
DTEND;TZID=America/Chicago:20250717T140000
DTSTAMP:20260423T064712
CREATED:20250714T140012Z
LAST-MODIFIED:20250714T140012Z
UID:907-1752750000-1752760800@columbiagateway.copt.com
SUMMARY:Food Truck
DESCRIPTION:Mark your calendars and check out Cousin’s Maine Lobster and Mike’s Gelato!
URL:https://columbiagateway.copt.com/whats-happening/food-truck-136/
LOCATION:Franklin\, 6841 Benjamin Franklin Drive\, Columbia\, MD\, 21046\, United States
ATTACH;FMTTYPE=image/jpeg:https://columbiagateway.copt.com/wp-content/uploads/2025/06/img-2165_51_2152521-170606444128379.jpeg
END:VEVENT
BEGIN:VEVENT
DTSTART;TZID=America/Chicago:20250722T110000
DTEND;TZID=America/Chicago:20250722T140000
DTSTAMP:20260423T064712
CREATED:20250721T204933Z
LAST-MODIFIED:20250721T204933Z
UID:909-1753182000-1753192800@columbiagateway.copt.com
SUMMARY:Food Truck
DESCRIPTION:Mark your calendars and check out Jimmy’s Famous Seafood!
URL:https://columbiagateway.copt.com/whats-happening/food-truck-137/
LOCATION:7125 Columbia Gateway Drive\, MD\, 21046
ATTACH;FMTTYPE=image/jpeg:https://columbiagateway.copt.com/wp-content/uploads/2024/02/E9435BC6-BCA8-4A86-92D8-F5F99B30CD61.jpg
END:VEVENT
BEGIN:VEVENT
DTSTART;TZID=America/Chicago:20250724T110000
DTEND;TZID=America/Chicago:20250724T140000
DTSTAMP:20260423T064712
CREATED:20250721T205443Z
LAST-MODIFIED:20250721T205443Z
UID:910-1753354800-1753365600@columbiagateway.copt.com
SUMMARY:Food Truck
DESCRIPTION:Mark your calendars and check out 410 BBQ!
URL:https://columbiagateway.copt.com/whats-happening/food-truck-138/
LOCATION:Franklin\, 6841 Benjamin Franklin Drive\, Columbia\, MD\, 21046\, United States
ATTACH;FMTTYPE=image/jpeg:https://columbiagateway.copt.com/wp-content/uploads/2025/07/474703047_1367294891363090_336577947162265410_n.jpg
END:VEVENT
BEGIN:VEVENT
DTSTART;TZID=America/Chicago:20250729T110000
DTEND;TZID=America/Chicago:20250729T140000
DTSTAMP:20260423T064712
CREATED:20250728T134224Z
LAST-MODIFIED:20250728T134224Z
UID:913-1753786800-1753797600@columbiagateway.copt.com
SUMMARY:Food Truck
DESCRIPTION:Mark your calendars and check out Deli-ish and HH BBQ!
URL:https://columbiagateway.copt.com/whats-happening/food-truck-139/
LOCATION:Columbia Gateway\, 7125 Columbia Gateway Drive\, Columbia\, MD\, 21046\, United States
ATTACH;FMTTYPE=image/jpeg:https://columbiagateway.copt.com/wp-content/uploads/2025/02/DLSH_FoodTruck.jpg
END:VEVENT
BEGIN:VEVENT
DTSTART;TZID=America/Chicago:20250730T110000
DTEND;TZID=America/Chicago:20250730T140000
DTSTAMP:20260423T064712
CREATED:20250728T134504Z
LAST-MODIFIED:20250728T134504Z
UID:914-1753873200-1753884000@columbiagateway.copt.com
SUMMARY:Food Truck
DESCRIPTION:Mark your calendars and check out Breaking the Borders!
URL:https://columbiagateway.copt.com/whats-happening/food-truck-140/
LOCATION:The Bell\, 6716 Alexander Bell Drive\, Columbia\, MD\, 21046\, United States
ATTACH;FMTTYPE=image/jpeg:https://columbiagateway.copt.com/wp-content/uploads/2025/04/Breaking-the-border.jpeg
END:VEVENT
BEGIN:VEVENT
DTSTART;TZID=America/Chicago:20250731T110000
DTEND;TZID=America/Chicago:20250731T140000
DTSTAMP:20260423T064712
CREATED:20250728T134931Z
LAST-MODIFIED:20250728T134931Z
UID:915-1753959600-1753970400@columbiagateway.copt.com
SUMMARY:Food Truck
DESCRIPTION:Mark your calendars and check out Namit Filipino BBQ!
URL:https://columbiagateway.copt.com/whats-happening/food-truck-141/
LOCATION:Franklin\, 6841 Benjamin Franklin Drive\, Columbia\, MD\, 21046\, United States
ATTACH;FMTTYPE=image/jpeg:https://columbiagateway.copt.com/wp-content/uploads/2024/02/Namit-e1741039616447.jpg
END:VEVENT
END:VCALENDAR