BEGIN:VCALENDAR
VERSION:2.0
PRODID:-//Columbia Gateway - ECPv6.6.4.2//NONSGML v1.0//EN
CALSCALE:GREGORIAN
METHOD:PUBLISH
X-ORIGINAL-URL:https://columbiagateway.copt.com
X-WR-CALDESC:Events for Columbia Gateway
REFRESH-INTERVAL;VALUE=DURATION:PT1H
X-Robots-Tag:noindex
X-PUBLISHED-TTL:PT1H
BEGIN:VTIMEZONE
TZID:America/Chicago
BEGIN:DAYLIGHT
TZOFFSETFROM:-0600
TZOFFSETTO:-0500
TZNAME:CDT
DTSTART:20250309T080000
END:DAYLIGHT
BEGIN:STANDARD
TZOFFSETFROM:-0500
TZOFFSETTO:-0600
TZNAME:CST
DTSTART:20251102T070000
END:STANDARD
END:VTIMEZONE
BEGIN:VEVENT
DTSTART;TZID=America/Chicago:20250610T100000
DTEND;TZID=America/Chicago:20250610T150000
DTSTAMP:20260423T043032
CREATED:20250609T143536Z
LAST-MODIFIED:20250609T143536Z
UID:888-1749549600-1749567600@columbiagateway.copt.com
SUMMARY:Blood Drive
DESCRIPTION:In collaboration with SAFE Project\, Freedom is hosting a blood drive. \nSchedule your appointment here: https://columbiagateway.copt.com/?post_type=tribe_events&p=888&preview=true  \nBe sure to grab a sweet treat from Scoops2U after you donate!
URL:https://columbiagateway.copt.com/whats-happening/blood-drive-2/
LOCATION:WAYLINE\, 6721 Columbia Gateway Drive\, Columbia\, United States
ATTACH;FMTTYPE=image/jpeg:https://columbiagateway.copt.com/wp-content/uploads/2023/08/shutterstock_2147463611-scaled.jpg
END:VEVENT
BEGIN:VEVENT
DTSTART;TZID=America/Chicago:20250610T110000
DTEND;TZID=America/Chicago:20250610T140000
DTSTAMP:20260423T043032
CREATED:20250609T141026Z
LAST-MODIFIED:20250609T141026Z
UID:881-1749553200-1749564000@columbiagateway.copt.com
SUMMARY:Food Truck
DESCRIPTION:Mark your calendars and check out Pitamore!
URL:https://columbiagateway.copt.com/whats-happening/food-truck-125/
LOCATION:7125 Columbia Gateway Drive\, MD\, 21046
ATTACH;FMTTYPE=image/jpeg:https://columbiagateway.copt.com/wp-content/uploads/2025/02/20250126-150905.jpg
END:VEVENT
BEGIN:VEVENT
DTSTART;TZID=America/Chicago:20250611T110000
DTEND;TZID=America/Chicago:20250611T140000
DTSTAMP:20260423T043032
CREATED:20250609T141343Z
LAST-MODIFIED:20250609T141343Z
UID:884-1749639600-1749650400@columbiagateway.copt.com
SUMMARY:Food Truck
DESCRIPTION:Mark your calendars for Greek on the Street!
URL:https://columbiagateway.copt.com/whats-happening/food-truck-126/
LOCATION:The Bell\, 6716 Alexander Bell Drive\, Columbia\, MD\, 21046\, United States
ATTACH;FMTTYPE=image/png:https://columbiagateway.copt.com/wp-content/uploads/2024/02/Screenshot-2024-02-02-150601-e1739287741221.png
END:VEVENT
BEGIN:VEVENT
DTSTART;TZID=America/Chicago:20250612T110000
DTEND;TZID=America/Chicago:20250612T140000
DTSTAMP:20260423T043032
CREATED:20250609T141941Z
LAST-MODIFIED:20250609T141941Z
UID:885-1749726000-1749736800@columbiagateway.copt.com
SUMMARY:Food Truck
DESCRIPTION:Mark your calendars for Breaking the Borders and Mike’s Gelato!
URL:https://columbiagateway.copt.com/whats-happening/food-truck-127/
LOCATION:Franklin\, 6841 Benjamin Franklin Drive\, Columbia\, MD\, 21046\, United States
ATTACH;FMTTYPE=image/jpeg:https://columbiagateway.copt.com/wp-content/uploads/2025/06/img-2165_51_2152521-170606444128379.jpeg
END:VEVENT
BEGIN:VEVENT
DTSTART;TZID=America/Chicago:20250617T110000
DTEND;TZID=America/Chicago:20250617T140000
DTSTAMP:20260423T043032
CREATED:20250616T134634Z
LAST-MODIFIED:20250616T134634Z
UID:891-1750158000-1750168800@columbiagateway.copt.com
SUMMARY:Food Trucks
DESCRIPTION:Mark your calendar and check out Tasty Empanadas & Breaking the Borders! 
URL:https://columbiagateway.copt.com/whats-happening/food-trucks/
LOCATION:7125 Columbia Gateway Drive\, MD\, 21046
ATTACH;FMTTYPE=image/webp:https://columbiagateway.copt.com/wp-content/uploads/2024/09/fe548c_01b59a30e8bc4f68aaa60820d1bda32fmv2.webp
END:VEVENT
BEGIN:VEVENT
DTSTART;TZID=America/Chicago:20250618T110000
DTEND;TZID=America/Chicago:20250618T140000
DTSTAMP:20260423T043032
CREATED:20250616T134857Z
LAST-MODIFIED:20250616T134857Z
UID:892-1750244400-1750255200@columbiagateway.copt.com
SUMMARY:Food Truck
DESCRIPTION:Mark your calendar and check out Deli-ish!
URL:https://columbiagateway.copt.com/whats-happening/food-truck-128/
LOCATION:The Bell\, 6716 Alexander Bell Drive\, Columbia\, MD\, 21046\, United States
ATTACH;FMTTYPE=image/jpeg:https://columbiagateway.copt.com/wp-content/uploads/2025/02/DLSH_FoodTruck.jpg
END:VEVENT
BEGIN:VEVENT
DTSTART;TZID=America/Chicago:20250619T110000
DTEND;TZID=America/Chicago:20250619T140000
DTSTAMP:20260423T043032
CREATED:20250616T135450Z
LAST-MODIFIED:20250616T135450Z
UID:893-1750330800-1750341600@columbiagateway.copt.com
SUMMARY:Food Truck
DESCRIPTION:Mark your calendar and check out HH BBQ Grill!
URL:https://columbiagateway.copt.com/whats-happening/food-truck-129/
LOCATION:Franklin\, 6841 Benjamin Franklin Drive\, Columbia\, MD\, 21046\, United States
ATTACH;FMTTYPE=image/jpeg:https://columbiagateway.copt.com/wp-content/uploads/2025/06/491830692_1258706086254567_7597035423192874552_n.jpg
END:VEVENT
BEGIN:VEVENT
DTSTART;TZID=America/Chicago:20250624T110000
DTEND;TZID=America/Chicago:20250624T140000
DTSTAMP:20260423T043032
CREATED:20250623T132352Z
LAST-MODIFIED:20250623T132352Z
UID:896-1750762800-1750773600@columbiagateway.copt.com
SUMMARY:Food Trucks
DESCRIPTION:Mark your calendars and check out Cousin’s Maine Lobster and DMV Taqueria!
URL:https://columbiagateway.copt.com/whats-happening/food-trucks-2/
LOCATION:7125 Columbia Gateway Drive\, MD\, 21046
ATTACH;FMTTYPE=image/jpeg:https://columbiagateway.copt.com/wp-content/uploads/2024/10/cousins-truck-1670534425.jpg
END:VEVENT
BEGIN:VEVENT
DTSTART;TZID=America/Chicago:20250626T110000
DTEND;TZID=America/Chicago:20250626T140000
DTSTAMP:20260423T043032
CREATED:20250623T132803Z
LAST-MODIFIED:20250623T132803Z
UID:897-1750935600-1750946400@columbiagateway.copt.com
SUMMARY:Food Truck
DESCRIPTION:Mark your calendars and check out Namit Filipino BBQ!
URL:https://columbiagateway.copt.com/whats-happening/food-truck-130/
LOCATION:Franklin\, 6841 Benjamin Franklin Drive\, Columbia\, MD\, 21046\, United States
ATTACH;FMTTYPE=image/jpeg:https://columbiagateway.copt.com/wp-content/uploads/2024/02/Namit-e1741039616447.jpg
END:VEVENT
END:VCALENDAR