BEGIN:VCALENDAR
VERSION:2.0
PRODID:-//Columbia Gateway - ECPv6.6.4.2//NONSGML v1.0//EN
CALSCALE:GREGORIAN
METHOD:PUBLISH
X-ORIGINAL-URL:https://columbiagateway.copt.com
X-WR-CALDESC:Events for Columbia Gateway
REFRESH-INTERVAL;VALUE=DURATION:PT1H
X-Robots-Tag:noindex
X-PUBLISHED-TTL:PT1H
BEGIN:VTIMEZONE
TZID:America/Chicago
BEGIN:DAYLIGHT
TZOFFSETFROM:-0600
TZOFFSETTO:-0500
TZNAME:CDT
DTSTART:20250309T080000
END:DAYLIGHT
BEGIN:STANDARD
TZOFFSETFROM:-0500
TZOFFSETTO:-0600
TZNAME:CST
DTSTART:20251102T070000
END:STANDARD
END:VTIMEZONE
BEGIN:VEVENT
DTSTART;TZID=America/Chicago:20250610T100000
DTEND;TZID=America/Chicago:20250610T150000
DTSTAMP:20260421T125313
CREATED:20250609T143536Z
LAST-MODIFIED:20250609T143536Z
UID:888-1749549600-1749567600@columbiagateway.copt.com
SUMMARY:Blood Drive
DESCRIPTION:In collaboration with SAFE Project\, Freedom is hosting a blood drive. \nSchedule your appointment here: https://columbiagateway.copt.com/?post_type=tribe_events&p=888&preview=true  \nBe sure to grab a sweet treat from Scoops2U after you donate!
URL:https://columbiagateway.copt.com/whats-happening/blood-drive-2/
LOCATION:WAYLINE\, 6721 Columbia Gateway Drive\, Columbia\, United States
ATTACH;FMTTYPE=image/jpeg:https://columbiagateway.copt.com/wp-content/uploads/2023/08/shutterstock_2147463611-scaled.jpg
END:VEVENT
BEGIN:VEVENT
DTSTART;TZID=America/Chicago:20250610T110000
DTEND;TZID=America/Chicago:20250610T140000
DTSTAMP:20260421T125313
CREATED:20250609T141026Z
LAST-MODIFIED:20250609T141026Z
UID:881-1749553200-1749564000@columbiagateway.copt.com
SUMMARY:Food Truck
DESCRIPTION:Mark your calendars and check out Pitamore!
URL:https://columbiagateway.copt.com/whats-happening/food-truck-125/
LOCATION:7125 Columbia Gateway Drive\, MD\, 21046
ATTACH;FMTTYPE=image/jpeg:https://columbiagateway.copt.com/wp-content/uploads/2025/02/20250126-150905.jpg
END:VEVENT
END:VCALENDAR