BEGIN:VCALENDAR
VERSION:2.0
PRODID:-//Columbia Gateway - ECPv6.6.4.2//NONSGML v1.0//EN
CALSCALE:GREGORIAN
METHOD:PUBLISH
X-WR-CALNAME:Columbia Gateway
X-ORIGINAL-URL:https://columbiagateway.copt.com
X-WR-CALDESC:Events for Columbia Gateway
REFRESH-INTERVAL;VALUE=DURATION:PT1H
X-Robots-Tag:noindex
X-PUBLISHED-TTL:PT1H
BEGIN:VTIMEZONE
TZID:America/Chicago
BEGIN:DAYLIGHT
TZOFFSETFROM:-0600
TZOFFSETTO:-0500
TZNAME:CDT
DTSTART:20250309T080000
END:DAYLIGHT
BEGIN:STANDARD
TZOFFSETFROM:-0500
TZOFFSETTO:-0600
TZNAME:CST
DTSTART:20251102T070000
END:STANDARD
END:VTIMEZONE
BEGIN:VEVENT
DTSTART;TZID=America/Chicago:20250527T110000
DTEND;TZID=America/Chicago:20250527T140000
DTSTAMP:20260421T072107
CREATED:20250527T133439Z
LAST-MODIFIED:20250527T133439Z
UID:873-1748343600-1748354400@columbiagateway.copt.com
SUMMARY:Food Truck
DESCRIPTION:Mark your calendar and check out Jeno’s Steaks & The Spit!
URL:https://columbiagateway.copt.com/whats-happening/food-truck-122/
LOCATION:7125 Columbia Gateway Drive\, MD\, 21046
ATTACH;FMTTYPE=image/webp:https://columbiagateway.copt.com/wp-content/uploads/2024/03/665d9c_94f83e8a600640ebbf81241116b5b848mv2-1-e1741039370872.webp
END:VEVENT
END:VCALENDAR